Package: MGnifyR Version: 1.3.0 Command: /Library/Frameworks/R.framework/Resources/bin/R CMD INSTALL MGnifyR StartedAt: 2025-02-09 15:25:42 -0500 (Sun, 09 Feb 2025) EndedAt: 2025-02-09 15:25:58 -0500 (Sun, 09 Feb 2025) EllapsedTime: 16.5 seconds RetCode: 0 Status: OK