Package: MGnifyR Version: 1.3.0 Command: /home/biocbuild/R/R/bin/R CMD INSTALL MGnifyR StartedAt: 2025-01-29 20:29:17 -0000 (Wed, 29 Jan 2025) EndedAt: 2025-01-29 20:30:13 -0000 (Wed, 29 Jan 2025) EllapsedTime: 56.2 seconds RetCode: 0 Status: OK