Package: MGnifyR Version: 1.3.0 Command: rm -rf MGnifyR.buildbin-libdir && mkdir MGnifyR.buildbin-libdir && /Users/biocbuild/BBS/utils/build-universal.sh MGnifyR_1.3.0.tar.gz /Library/Frameworks/R.framework/Resources/bin/R MGnifyR.buildbin-libdir StartedAt: 2025-02-10 01:02:27 -0500 (Mon, 10 Feb 2025) EndedAt: 2025-02-10 01:03:27 -0500 (Mon, 10 Feb 2025) EllapsedTime: 60.1 seconds RetCode: 0 Status: OK PackageFile: MGnifyR_1.3.0.tgz PackageFileSize: 4.386 MiB