Package: MGnifyR Version: 1.3.0 Command: /Library/Frameworks/R.framework/Resources/bin/R CMD INSTALL MGnifyR StartedAt: 2025-02-09 15:41:37 -0500 (Sun, 09 Feb 2025) EndedAt: 2025-02-09 15:42:32 -0500 (Sun, 09 Feb 2025) EllapsedTime: 55.6 seconds RetCode: 0 Status: OK