Package: MGnifyR Version: 1.3.0 Command: /home/biocbuild/bbs-3.21-bioc/R/bin/R CMD build --keep-empty-dirs --no-resave-data MGnifyR StartedAt: 2025-02-09 18:06:27 -0500 (Sun, 09 Feb 2025) EndedAt: 2025-02-09 18:07:45 -0500 (Sun, 09 Feb 2025) EllapsedTime: 77.1 seconds RetCode: 0 Status: OK PackageFile: MGnifyR_1.3.0.tar.gz PackageFileSize: 4.326 MiB