Package: MGnifyR Version: 1.3.0 Command: /home/biocbuild/bbs-3.21-bioc/R/bin/R CMD check --install=check:MGnifyR.install-out.txt --library=/home/biocbuild/bbs-3.21-bioc/R/site-library --timings MGnifyR_1.3.0.tar.gz StartedAt: 2025-02-10 00:05:17 -0500 (Mon, 10 Feb 2025) EndedAt: 2025-02-10 00:17:49 -0500 (Mon, 10 Feb 2025) EllapsedTime: 752.9 seconds RetCode: 0 Status: OK CheckDir: MGnifyR.Rcheck Warnings: 0