Package: MGnifyR Version: 1.3.0 Command: rm -rf MGnifyR.buildbin-libdir && mkdir MGnifyR.buildbin-libdir && E:\biocbuild\bbs-3.21-bioc\R\bin\R.exe CMD INSTALL --build --library=MGnifyR.buildbin-libdir MGnifyR_1.3.0.tar.gz StartedAt: 2025-02-10 08:08:19 -0500 (Mon, 10 Feb 2025) EndedAt: 2025-02-10 08:09:24 -0500 (Mon, 10 Feb 2025) EllapsedTime: 65.5 seconds RetCode: 0 Status: OK PackageFile: MGnifyR_1.3.0.zip PackageFileSize: 4.28 MiB