Package: MICSQTL Version: 1.5.0 Command: /Library/Frameworks/R.framework/Resources/bin/R CMD build --keep-empty-dirs --no-resave-data MICSQTL StartedAt: 2025-02-09 16:56:34 -0500 (Sun, 09 Feb 2025) EndedAt: 2025-02-09 16:56:56 -0500 (Sun, 09 Feb 2025) EllapsedTime: 22.2 seconds RetCode: 0 Status: OK PackageFile: MICSQTL_1.5.0.tar.gz PackageFileSize: 3.085 MiB