Package: MICSQTL Version: 1.5.0 Command: rm -rf MICSQTL.buildbin-libdir && mkdir MICSQTL.buildbin-libdir && /Users/biocbuild/BBS/utils/build-universal.sh MICSQTL_1.5.0.tar.gz /Library/Frameworks/R.framework/Resources/bin/R MICSQTL.buildbin-libdir StartedAt: 2025-02-10 01:02:47 -0500 (Mon, 10 Feb 2025) EndedAt: 2025-02-10 01:03:26 -0500 (Mon, 10 Feb 2025) EllapsedTime: 39.3 seconds RetCode: 0 Status: OK PackageFile: MICSQTL_1.5.0.tgz PackageFileSize: 2.643 MiB