Package: MICSQTL Version: 1.5.0 Command: /Library/Frameworks/R.framework/Resources/bin/R CMD INSTALL MICSQTL StartedAt: 2025-02-09 15:42:54 -0500 (Sun, 09 Feb 2025) EndedAt: 2025-02-09 15:43:31 -0500 (Sun, 09 Feb 2025) EllapsedTime: 37.9 seconds RetCode: 0 Status: OK