Package: MICSQTL Version: 1.5.0 Command: chmod a+r MICSQTL -R && E:\biocbuild\bbs-3.21-bioc\R\bin\R.exe CMD build --keep-empty-dirs --no-resave-data MICSQTL StartedAt: 2025-02-09 19:54:52 -0500 (Sun, 09 Feb 2025) EndedAt: 2025-02-09 19:56:18 -0500 (Sun, 09 Feb 2025) EllapsedTime: 85.6 seconds RetCode: 0 Status: OK PackageFile: MICSQTL_1.5.0.tar.gz PackageFileSize: 3.085 MiB