Package: MIRit Version: 1.3.0 Command: rm -rf MIRit.buildbin-libdir && mkdir MIRit.buildbin-libdir && /Users/biocbuild/BBS/utils/build-universal.sh MIRit_1.3.0.tar.gz /Library/Frameworks/R.framework/Resources/bin/R MIRit.buildbin-libdir StartedAt: 2025-02-10 01:03:03 -0500 (Mon, 10 Feb 2025) EndedAt: 2025-02-10 01:04:01 -0500 (Mon, 10 Feb 2025) EllapsedTime: 57.8 seconds RetCode: 0 Status: OK PackageFile: MIRit_1.3.0.tgz PackageFileSize: 3.017 MiB