Package: MIRit Version: 1.3.0 Command: /Library/Frameworks/R.framework/Resources/bin/R CMD check --install=check:MIRit.install-out.txt --library=/Library/Frameworks/R.framework/Resources/library --no-vignettes --timings MIRit_1.3.0.tar.gz StartedAt: 2025-02-09 21:57:30 -0500 (Sun, 09 Feb 2025) EndedAt: 2025-02-09 22:02:06 -0500 (Sun, 09 Feb 2025) EllapsedTime: 276.7 seconds RetCode: 0 Status: OK CheckDir: MIRit.Rcheck Warnings: 0