Package: MIRit Version: 1.3.0 Command: /home/biocbuild/bbs-3.21-bioc/R/bin/R CMD check --install=check:MIRit.install-out.txt --library=/home/biocbuild/bbs-3.21-bioc/R/site-library --timings MIRit_1.3.0.tar.gz StartedAt: 2025-02-10 00:12:23 -0500 (Mon, 10 Feb 2025) EndedAt: 2025-02-10 00:16:56 -0500 (Mon, 10 Feb 2025) EllapsedTime: 273.3 seconds RetCode: 0 Status: OK CheckDir: MIRit.Rcheck Warnings: 0