Package: MIRit Version: 1.3.0 Command: rm -rf MIRit.buildbin-libdir && mkdir MIRit.buildbin-libdir && E:\biocbuild\bbs-3.21-bioc\R\bin\R.exe CMD INSTALL --build --library=MIRit.buildbin-libdir MIRit_1.3.0.tar.gz StartedAt: 2025-02-13 08:20:35 -0500 (Thu, 13 Feb 2025) EndedAt: 2025-02-13 08:21:45 -0500 (Thu, 13 Feb 2025) EllapsedTime: 69.9 seconds RetCode: 0 Status: OK PackageFile: MIRit_1.3.0.zip PackageFileSize: 2.8 MiB