Package: MIRit Version: 1.3.0 Command: chmod a+r MIRit -R && E:\biocbuild\bbs-3.21-bioc\R\bin\R.exe CMD build --keep-empty-dirs --no-resave-data MIRit StartedAt: 2025-02-09 19:56:32 -0500 (Sun, 09 Feb 2025) EndedAt: 2025-02-09 19:59:51 -0500 (Sun, 09 Feb 2025) EllapsedTime: 198.6 seconds RetCode: 0 Status: OK PackageFile: MIRit_1.3.0.tar.gz PackageFileSize: 2.172 MiB