Package: MIRit Version: 1.3.0 Command: E:\biocbuild\bbs-3.21-bioc\R\bin\R.exe CMD check --no-multiarch --install=check:MIRit.install-out.txt --library=E:\biocbuild\bbs-3.21-bioc\R\library --no-vignettes --timings MIRit_1.3.0.tar.gz StartedAt: 2025-02-10 02:59:38 -0500 (Mon, 10 Feb 2025) EndedAt: 2025-02-10 03:14:22 -0500 (Mon, 10 Feb 2025) EllapsedTime: 884.3 seconds RetCode: 0 Status: OK CheckDir: MIRit.Rcheck Warnings: 0