Package: MLInterfaces Version: 1.87.0 Command: rm -rf MLInterfaces.buildbin-libdir && mkdir MLInterfaces.buildbin-libdir && /Users/biocbuild/BBS/utils/build-universal.sh MLInterfaces_1.87.0.tar.gz /Library/Frameworks/R.framework/Resources/bin/R MLInterfaces.buildbin-libdir StartedAt: 2025-02-09 22:21:35 -0500 (Sun, 09 Feb 2025) EndedAt: 2025-02-09 22:21:49 -0500 (Sun, 09 Feb 2025) EllapsedTime: 14.3 seconds RetCode: 0 Status: OK PackageFile: MLInterfaces_1.87.0.tgz PackageFileSize: 3.216 MiB