Package: MLInterfaces Version: 1.87.0 Command: /Library/Frameworks/R.framework/Resources/bin/R CMD INSTALL MLInterfaces StartedAt: 2025-02-09 15:21:09 -0500 (Sun, 09 Feb 2025) EndedAt: 2025-02-09 15:21:21 -0500 (Sun, 09 Feb 2025) EllapsedTime: 11.8 seconds RetCode: 0 Status: OK