Package: MLInterfaces Version: 1.87.0 Command: /home/biocbuild/R/R/bin/R CMD INSTALL MLInterfaces StartedAt: 2025-01-29 20:19:04 -0000 (Wed, 29 Jan 2025) EndedAt: 2025-01-29 20:19:47 -0000 (Wed, 29 Jan 2025) EllapsedTime: 43.1 seconds RetCode: 0 Status: OK