Package: MLInterfaces Version: 1.87.0 Command: /Library/Frameworks/R.framework/Resources/bin/R CMD check --install=check:MLInterfaces.install-out.txt --library=/Library/Frameworks/R.framework/Resources/library --no-vignettes --timings MLInterfaces_1.87.0.tar.gz StartedAt: 2025-02-09 21:59:41 -0500 (Sun, 09 Feb 2025) EndedAt: 2025-02-09 22:03:40 -0500 (Sun, 09 Feb 2025) EllapsedTime: 239.2 seconds RetCode: 0 Status: WARNINGS CheckDir: MLInterfaces.Rcheck Warnings: 1