Package: MLInterfaces Version: 1.87.0 Command: /Library/Frameworks/R.framework/Resources/bin/R CMD INSTALL MLInterfaces StartedAt: 2025-02-09 15:33:47 -0500 (Sun, 09 Feb 2025) EndedAt: 2025-02-09 15:34:30 -0500 (Sun, 09 Feb 2025) EllapsedTime: 42.8 seconds RetCode: 0 Status: OK