Package: MLInterfaces Version: 1.87.0 Command: /home/biocbuild/bbs-3.21-bioc/R/bin/R CMD build --keep-empty-dirs --no-resave-data MLInterfaces StartedAt: 2025-02-09 18:10:36 -0500 (Sun, 09 Feb 2025) EndedAt: 2025-02-09 18:11:48 -0500 (Sun, 09 Feb 2025) EllapsedTime: 72.0 seconds RetCode: 0 Status: OK PackageFile: MLInterfaces_1.87.0.tar.gz PackageFileSize: 2.799 MiB