Package: MLInterfaces Version: 1.87.0 Command: /home/biocbuild/bbs-3.21-bioc/R/bin/R CMD INSTALL MLInterfaces StartedAt: 2025-02-09 15:27:53 -0500 (Sun, 09 Feb 2025) EndedAt: 2025-02-09 15:28:25 -0500 (Sun, 09 Feb 2025) EllapsedTime: 31.5 seconds RetCode: 0 Status: OK