Package: MLInterfaces Version: 1.87.0 Command: rm -rf MLInterfaces.buildbin-libdir && mkdir MLInterfaces.buildbin-libdir && E:\biocbuild\bbs-3.21-bioc\R\bin\R.exe CMD INSTALL --build --library=MLInterfaces.buildbin-libdir MLInterfaces_1.87.0.tar.gz StartedAt: 2025-02-10 08:10:24 -0500 (Mon, 10 Feb 2025) EndedAt: 2025-02-10 08:12:49 -0500 (Mon, 10 Feb 2025) EllapsedTime: 145.1 seconds RetCode: 0 Status: OK PackageFile: MLInterfaces_1.87.0.zip PackageFileSize: 1.631 MiB