Package: MLInterfaces Version: 1.87.0 Command: chmod a+r MLInterfaces -R && E:\biocbuild\bbs-3.21-bioc\R\bin\R.exe CMD build --keep-empty-dirs --no-resave-data MLInterfaces StartedAt: 2025-02-09 19:58:25 -0500 (Sun, 09 Feb 2025) EndedAt: 2025-02-09 20:00:25 -0500 (Sun, 09 Feb 2025) EllapsedTime: 119.7 seconds RetCode: 0 Status: OK PackageFile: MLInterfaces_1.87.0.tar.gz PackageFileSize: 1.213 MiB