Package: MLInterfaces Version: 1.87.0 Command: E:\biocbuild\bbs-3.21-bioc\R\bin\R.exe CMD check --no-multiarch --install=check:MLInterfaces.install-out.txt --library=E:\biocbuild\bbs-3.21-bioc\R\library --no-vignettes --timings MLInterfaces_1.87.0.tar.gz StartedAt: 2025-02-10 03:02:34 -0500 (Mon, 10 Feb 2025) EndedAt: 2025-02-10 03:06:46 -0500 (Mon, 10 Feb 2025) EllapsedTime: 251.9 seconds RetCode: 0 Status: WARNINGS CheckDir: MLInterfaces.Rcheck Warnings: 1