Package: MLP Version: 1.55.0 Command: /Library/Frameworks/R.framework/Resources/bin/R CMD build --keep-empty-dirs --no-resave-data MLP StartedAt: 2025-02-04 16:58:53 -0500 (Tue, 04 Feb 2025) EndedAt: 2025-02-04 16:59:17 -0500 (Tue, 04 Feb 2025) EllapsedTime: 24.3 seconds RetCode: 0 Status: OK PackageFile: MLP_1.55.0.tar.gz PackageFileSize: 4.285 MiB