Package: MLP Version: 1.55.0 Command: /home/biocbuild/R/R/bin/R CMD check --install=check:MLP.install-out.txt --library=/home/biocbuild/R/R/site-library --no-vignettes --timings MLP_1.55.0.tar.gz StartedAt: 2025-01-28 12:36:47 -0000 (Tue, 28 Jan 2025) EndedAt: 2025-01-28 12:46:21 -0000 (Tue, 28 Jan 2025) EllapsedTime: 573.8 seconds RetCode: 0 Status: OK CheckDir: MLP.Rcheck Warnings: 0