Package: MLP Version: 1.55.0 Command: /home/biocbuild/R/R/bin/R CMD INSTALL MLP StartedAt: 2025-01-29 19:50:52 -0000 (Wed, 29 Jan 2025) EndedAt: 2025-01-29 19:51:09 -0000 (Wed, 29 Jan 2025) EllapsedTime: 16.9 seconds RetCode: 0 Status: OK