Package: MLP Version: 1.55.0 Command: /Library/Frameworks/R.framework/Resources/bin/R CMD build --keep-empty-dirs --no-resave-data MLP StartedAt: 2025-02-09 17:29:22 -0500 (Sun, 09 Feb 2025) EndedAt: 2025-02-09 17:30:31 -0500 (Sun, 09 Feb 2025) EllapsedTime: 68.4 seconds RetCode: 0 Status: OK PackageFile: MLP_1.55.0.tar.gz PackageFileSize: 4.285 MiB