Package: MLP Version: 1.55.0 Command: /Library/Frameworks/R.framework/Resources/bin/R CMD INSTALL MLP StartedAt: 2025-02-09 15:16:45 -0500 (Sun, 09 Feb 2025) EndedAt: 2025-02-09 15:17:05 -0500 (Sun, 09 Feb 2025) EllapsedTime: 20.6 seconds RetCode: 0 Status: OK