Package: MLP Version: 1.55.0 Command: /home/biocbuild/bbs-3.21-bioc/R/bin/R CMD INSTALL MLP StartedAt: 2025-02-09 15:31:02 -0500 (Sun, 09 Feb 2025) EndedAt: 2025-02-09 15:31:15 -0500 (Sun, 09 Feb 2025) EllapsedTime: 12.4 seconds RetCode: 0 Status: OK