Package: MLP Version: 1.55.0 Command: rm -rf MLP.buildbin-libdir && mkdir MLP.buildbin-libdir && E:\biocbuild\bbs-3.21-bioc\R\bin\R.exe CMD INSTALL --build --library=MLP.buildbin-libdir MLP_1.55.0.tar.gz StartedAt: 2025-02-10 08:10:26 -0500 (Mon, 10 Feb 2025) EndedAt: 2025-02-10 08:10:46 -0500 (Mon, 10 Feb 2025) EllapsedTime: 19.6 seconds RetCode: 0 Status: OK PackageFile: MLP_1.55.0.zip PackageFileSize: 4.192 MiB