Package: MLP Version: 1.55.0 Command: E:\biocbuild\bbs-3.21-bioc\R\bin\R.exe CMD check --no-multiarch --install=check:MLP.install-out.txt --library=E:\biocbuild\bbs-3.21-bioc\R\library --no-vignettes --timings MLP_1.55.0.tar.gz StartedAt: 2025-02-10 03:03:15 -0500 (Mon, 10 Feb 2025) EndedAt: 2025-02-10 03:11:00 -0500 (Mon, 10 Feb 2025) EllapsedTime: 465.3 seconds RetCode: 0 Status: OK CheckDir: MLP.Rcheck Warnings: 0