Package: MLSeq Version: 2.25.0 Maintainer: Gokmen Zararsiz MaintainerEmail: gokmenzararsiz at hotmail.com git_url: https://git.bioconductor.org/packages/MLSeq git_branch: devel git_last_commit: 97e5509 git_last_commit_date: 2024-10-29 09:50:40 -0500 (Tue, 29 Oct 2024)