Package: MLSeq Version: 2.25.0 Command: /Library/Frameworks/R.framework/Resources/bin/R CMD INSTALL MLSeq StartedAt: 2025-02-09 15:24:07 -0500 (Sun, 09 Feb 2025) EndedAt: 2025-02-09 15:24:20 -0500 (Sun, 09 Feb 2025) EllapsedTime: 13.2 seconds RetCode: 0 Status: OK