Package: MLSeq Version: 2.25.0 Command: /home/biocbuild/R/R/bin/R CMD build --keep-empty-dirs --no-resave-data MLSeq StartedAt: 2025-01-29 00:26:13 -0000 (Wed, 29 Jan 2025) EndedAt: 2025-01-29 00:28:40 -0000 (Wed, 29 Jan 2025) EllapsedTime: 146.1 seconds RetCode: 0 Status: OK PackageFile: MLSeq_2.25.0.tar.gz PackageFileSize: 759.6 KiB