Package: MLSeq Version: 2.25.0 Command: /home/biocbuild/R/R/bin/R CMD INSTALL MLSeq StartedAt: 2025-01-29 20:25:55 -0000 (Wed, 29 Jan 2025) EndedAt: 2025-01-29 20:26:42 -0000 (Wed, 29 Jan 2025) EllapsedTime: 46.5 seconds RetCode: 0 Status: OK