Package: MLSeq Version: 2.25.0 Command: /Library/Frameworks/R.framework/Resources/bin/R CMD check --install=check:MLSeq.install-out.txt --library=/Library/Frameworks/R.framework/Resources/library --no-vignettes --timings MLSeq_2.25.0.tar.gz StartedAt: 2025-02-09 21:59:47 -0500 (Sun, 09 Feb 2025) EndedAt: 2025-02-09 22:03:52 -0500 (Sun, 09 Feb 2025) EllapsedTime: 244.9 seconds RetCode: 0 Status: OK CheckDir: MLSeq.Rcheck Warnings: 0