Package: MLSeq Version: 2.25.0 Command: /Library/Frameworks/R.framework/Resources/bin/R CMD INSTALL MLSeq StartedAt: 2025-02-09 15:38:24 -0500 (Sun, 09 Feb 2025) EndedAt: 2025-02-09 15:39:10 -0500 (Sun, 09 Feb 2025) EllapsedTime: 46.0 seconds RetCode: 0 Status: OK