Package: MLSeq Version: 2.25.0 Command: chmod a+r MLSeq -R && E:\biocbuild\bbs-3.21-bioc\R\bin\R.exe CMD build --keep-empty-dirs --no-resave-data MLSeq StartedAt: 2025-02-09 19:59:29 -0500 (Sun, 09 Feb 2025) EndedAt: 2025-02-09 20:02:21 -0500 (Sun, 09 Feb 2025) EllapsedTime: 172.2 seconds RetCode: 0 Status: OK PackageFile: MLSeq_2.25.0.tar.gz PackageFileSize: 530.5 KiB