Package: MOSClip Version: 1.1.0 Command: rm -rf MOSClip.buildbin-libdir && mkdir MOSClip.buildbin-libdir && /Users/biocbuild/BBS/utils/build-universal.sh MOSClip_1.1.0.tar.gz /Library/Frameworks/R.framework/Resources/bin/R MOSClip.buildbin-libdir StartedAt: 2025-02-09 22:21:55 -0500 (Sun, 09 Feb 2025) EndedAt: 2025-02-09 22:22:17 -0500 (Sun, 09 Feb 2025) EllapsedTime: 21.4 seconds RetCode: 0 Status: OK PackageFile: MOSClip_1.1.0.tgz PackageFileSize: 2.43 MiB