Package: MOSClip Version: 1.1.0 Command: /Library/Frameworks/R.framework/Resources/bin/R CMD INSTALL MOSClip StartedAt: 2025-02-09 15:28:43 -0500 (Sun, 09 Feb 2025) EndedAt: 2025-02-09 15:29:03 -0500 (Sun, 09 Feb 2025) EllapsedTime: 19.7 seconds RetCode: 0 Status: OK