Package: MOSClip Version: 1.1.0 Command: /home/biocbuild/R/R/bin/R CMD build --keep-empty-dirs --no-resave-data MOSClip StartedAt: 2025-01-29 00:31:31 -0000 (Wed, 29 Jan 2025) EndedAt: 2025-01-29 00:33:37 -0000 (Wed, 29 Jan 2025) EllapsedTime: 126.0 seconds RetCode: 0 Status: OK PackageFile: MOSClip_1.1.0.tar.gz PackageFileSize: 1.299 MiB