Package: MOSClip Version: 1.1.0 Command: /home/biocbuild/R/R/bin/R CMD check --install=check:MOSClip.install-out.txt --library=/home/biocbuild/R/R/site-library --no-vignettes --timings MOSClip_1.1.0.tar.gz StartedAt: 2025-01-28 12:43:28 -0000 (Tue, 28 Jan 2025) EndedAt: 2025-01-28 12:54:28 -0000 (Tue, 28 Jan 2025) EllapsedTime: 659.9 seconds RetCode: 0 Status: OK CheckDir: MOSClip.Rcheck Warnings: 0