Package: MOSClip Version: 1.1.0 Command: /home/biocbuild/R/R/bin/R CMD INSTALL MOSClip StartedAt: 2025-01-29 20:34:35 -0000 (Wed, 29 Jan 2025) EndedAt: 2025-01-29 20:35:43 -0000 (Wed, 29 Jan 2025) EllapsedTime: 67.3 seconds RetCode: 0 Status: OK