Package: MOSClip Version: 1.1.0 Command: /home/biocbuild/bbs-3.21-bioc/R/bin/R CMD check --install=check:MOSClip.install-out.txt --library=/home/biocbuild/bbs-3.21-bioc/R/site-library --timings MOSClip_1.1.0.tar.gz StartedAt: 2025-02-05 00:30:07 -0500 (Wed, 05 Feb 2025) EndedAt: 2025-02-05 00:38:44 -0500 (Wed, 05 Feb 2025) EllapsedTime: 516.7 seconds RetCode: 0 Status: OK CheckDir: MOSClip.Rcheck Warnings: 0