Package: MOSClip Version: 1.1.0 Command: rm -rf MOSClip.buildbin-libdir && mkdir MOSClip.buildbin-libdir && E:\biocbuild\bbs-3.21-bioc\R\bin\R.exe CMD INSTALL --build --library=MOSClip.buildbin-libdir MOSClip_1.1.0.tar.gz StartedAt: 2025-02-10 08:11:55 -0500 (Mon, 10 Feb 2025) EndedAt: 2025-02-10 08:13:13 -0500 (Mon, 10 Feb 2025) EllapsedTime: 77.4 seconds RetCode: 0 Status: OK PackageFile: MOSClip_1.1.0.zip PackageFileSize: 1.547 MiB