Package: MOSClip Version: 1.1.0 Command: chmod a+r MOSClip -R && E:\biocbuild\bbs-3.21-bioc\R\bin\R.exe CMD build --keep-empty-dirs --no-resave-data MOSClip StartedAt: 2025-02-09 20:02:57 -0500 (Sun, 09 Feb 2025) EndedAt: 2025-02-09 20:05:10 -0500 (Sun, 09 Feb 2025) EllapsedTime: 132.3 seconds RetCode: 0 Status: OK PackageFile: MOSClip_1.1.0.tar.gz PackageFileSize: 1.26 MiB